BEGIN:VCALENDAR
PRODID:-//hacksw/handcal//NONSGML v1.0//EN
VERSION:2.0
METHOD:PUBLISH
BEGIN:VEVENT
DTSTART:20251204T123000Z
DTEND:20251204T143000Z
LOCATION:Whately Inn
UID:2874720251204T123000ZPVEPC December 2025 Meeting: The Lifecycle of an Estate Plan
DTSTAMP:20260425T174400Z
DESCRIPTION:\nWe will feature a panel of speakers discussing the lifecycle of an estate plan, including:\n Claire Crowley and Ben Palkowski – Estate Planning Documents Maureen Tobin and Janice Ward – Incapacity, Death, and Fiduciary Actions Jeffrey Siegel – Will Contests \n \n \n \n
SUMMARY:PVEPC December 2025 Meeting: The Lifecycle of an Estate Plan - Pioneer Valley Estate Planning Council, Inc. 
PRIORITY:3
BEGIN:VALARM
TRIGGER:PT18H
ACTION:DISPLAY
DESCRIPTION:Reminder
END:VALARM
END:VEVENT
END:VCALENDAR