BEGIN:VCALENDAR
PRODID:-//hacksw/handcal//NONSGML v1.0//EN
VERSION:2.0
METHOD:PUBLISH
BEGIN:VEVENT
DTSTART:20250922T210000Z
DTEND:20250922T230000Z
LOCATION:Roosevelt Room at the Union Station
UID:2855120250922T210000ZPVEPC September 2025 Meeting
DTSTAMP:20260425T174503Z
DESCRIPTION:\nMark J. Esposito and Stephen L. Sobey will be giving a presentation titled The Cold Truth About the Gifting Hot Power. The presentation will cover Durable Powers of Attorney in estate planning, focusing on broad gifting powers for agents. It will discuss the benefits, risks of misuse, and protective strategies that maintain flexibility in financial management. \n 
SUMMARY:PVEPC September 2025 Meeting - Pioneer Valley Estate Planning Council, Inc. 
PRIORITY:3
BEGIN:VALARM
TRIGGER:PT18H
ACTION:DISPLAY
DESCRIPTION:Reminder
END:VALARM
END:VEVENT
END:VCALENDAR