BEGIN:VCALENDAR
PRODID:-//hacksw/handcal//NONSGML v1.0//EN
VERSION:2.0
METHOD:PUBLISH
BEGIN:VEVENT
DTSTART:20250417T114500Z
DTEND:20250417T133000Z
LOCATION:Inn on Boltwood, 30 Boltwood Ave, Amherst, MA 01002
UID:2679120250417T114500ZPVEPC Spring 2025 Meeting:  ESG Research Framework and Sustainable Investing
DTSTAMP:20260425T174922Z
DESCRIPTION:\nTopic: ESG Research Framework and Sustainable Investing\n \n \n \n \n
SUMMARY:PVEPC Spring 2025 Meeting:  ESG Research Framework and Sustainable Investing - Pioneer Valley Estate Planning Council, Inc. 
PRIORITY:3
BEGIN:VALARM
TRIGGER:PT18H
ACTION:DISPLAY
DESCRIPTION:Reminder
END:VALARM
END:VEVENT
END:VCALENDAR