BEGIN:VCALENDAR
PRODID:-//hacksw/handcal//NONSGML v1.0//EN
VERSION:2.0
METHOD:PUBLISH
BEGIN:VEVENT
DTSTART:20240514T210000Z
DTEND:20240514T230000Z
LOCATION:Progression Brewing Company, 9 Pearl Street, Northampton, MA 01060 
UID:2456320240514T210000ZPVEPC Annual Meeting and Key Planning Topics
DTSTAMP:20260425T175229Z
DESCRIPTION:\n \n \nThe annual meeting will be held on Tuesday, May 14th.  This business meeting is required under our by-laws to elect a new slate of officers. If anyone is interested in joining the Board, please [email Andrew Bellak](mailto:andrew@perigonwealth.com?subject=PVEPC%20Annual%20Meeting) directly in advance of the meeting.\n \nIn addition to the annual meeting, Mike Simolo of Loring, Wolcott &Coolidge Trust, LLC will present on Key Planning Topics.\n \n \n \nLocation: [Progression Brewing Company](https://progressionbrewing.com/), 9 Pearl Street, Northampton, MA. Venue will be closed to the public this evening.\n \nBuffet-style dinner will be served.\n \nSocial hour begins at 5:00 pm with program beginning at 6:00 pm.\n \nEvent cost is $40.00 for members and non-members. Pay online at [Pay via PayPal ](https://paypal.me/PVEPC?country.x=US&locale.x=en_US) or check accepted at the door.\n \n \n \n[RSVP Now for this Event](https://www.signupgenius.com/go/10C0E44A9AB28A7F5C43-48617142-pvepc)\n
SUMMARY:PVEPC Annual Meeting and Key Planning Topics - Pioneer Valley Estate Planning Council, Inc. 
PRIORITY:3
BEGIN:VALARM
TRIGGER:PT18H
ACTION:DISPLAY
DESCRIPTION:Reminder
END:VALARM
END:VEVENT
END:VCALENDAR