BEGIN:VCALENDAR
PRODID:-//hacksw/handcal//NONSGML v1.0//EN
VERSION:2.0
METHOD:PUBLISH
BEGIN:VEVENT
DTSTART:20240111T123000Z
DTEND:20240111T150000Z
LOCATION:Smith College Conference Center, 49 College Lane, Northampton, MA 01060
UID:2456120240111T123000ZPVEPC January 2024 Meeting - Secure 2.0 including QLAC changes 
DTSTAMP:20260425T174600Z
DESCRIPTION:\nOur next meeting this fiscal year will be held on Thursday, January 11th, at the [Smith College Conference Center](https://www.smith.edu/about-smith/emo/conference-center).\n \n \n \nJohn F. O’Brien of NY Life will speak on Secure 2.0 including QLAC changes.\n \n \n \nLocation: Smith College Conference Center, 49 College Lane, Northampton, MA\n \nBuffet-style breakfast will be served.\n \nSocial/coffee hour begins at 7:30 am.\n \n \n \nEvent cost is $40.00 for members and non-members. Pay online at [Pay via PayPal ](https://paypal.me/PVEPC?country.x=US&locale.x=en_US) or check accepted at the door.\n \n \n \n \n
SUMMARY:PVEPC January 2024 Meeting - Secure 2.0 including QLAC changes  - Pioneer Valley Estate Planning Council, Inc. 
PRIORITY:3
BEGIN:VALARM
TRIGGER:PT18H
ACTION:DISPLAY
DESCRIPTION:Reminder
END:VALARM
END:VEVENT
END:VCALENDAR