BEGIN:VCALENDAR
PRODID:-//hacksw/handcal//NONSGML v1.0//EN
VERSION:2.0
METHOD:PUBLISH
BEGIN:VEVENT
DTSTART:20230926T210000Z
DTEND:20230927T000000Z
LOCATION:Spoleto Restauant, One Bridge Street, Northampton
UID:2456020230926T210000ZPVEPC September Meeting
DTSTAMP:20260425T174704Z
DESCRIPTION:\nOur first meeting this fiscal year will be held on Tuesday, September 26th at ­­­­­­­­­­­­­­­­­­­­­­­­­­­­­­­Spoleto Restaurant. Attorney Matthew Erskine of Erskine and Erskine will speak about crucial modern estate planning issues, with a focus on artificial intelligence, cryptocurrency and nonfungible tokens.\n \nSocial hour begins at 5:00 pm, cash bar.\n \nProgram begins at 6:00 pm.\n \nEvent cost is $40.00 for both members and non-members. Pay online at [Pay via PayPal ](https://paypal.me/PVEPC?country.x=US&locale.x=en_US) or check accepted at the door.\n \n[RSVP Now for this Event](mailto:rfrancis@currankeegan.com?subject=PVEPC%20-%20RSVP%20for%20September%2026th%20Event)\n
SUMMARY:PVEPC September Meeting - Pioneer Valley Estate Planning Council, Inc. 
PRIORITY:3
BEGIN:VALARM
TRIGGER:PT18H
ACTION:DISPLAY
DESCRIPTION:Reminder
END:VALARM
END:VEVENT
END:VCALENDAR