BEGIN:VCALENDAR
PRODID:-//hacksw/handcal//NONSGML v1.0//EN
VERSION:2.0
METHOD:PUBLISH
BEGIN:VEVENT
DTSTART:20230112T123000Z
DTEND:20230112T143000Z
LOCATION:The Hotel Northampton
UID:2361120230112T123000ZPVEPC Winter Breakfast Meeting
DTSTAMP:20260425T174922Z
DESCRIPTION:\nThe planned topic is an update on IRS tax changes that may result in changes to the tax code and estate planning techniques. Our speaker is Dan Eger, Tax Supervisor at Meyers Brothers Kalicka, P.C.  \n \nBuffet-style breakfast will be served starting at 7:30 am.\n \nProgram begins at 8:00 am. \n\n\n \nEvent cost is $40.00 for members and non-members. Pay online at [Pay via PayPal ](https://paypal.me/PVEPC?country.x=US&locale.x=en_US) or check accepted at the door.\n
SUMMARY:PVEPC Winter Breakfast Meeting - Pioneer Valley Estate Planning Council, Inc. 
PRIORITY:3
BEGIN:VALARM
TRIGGER:PT18H
ACTION:DISPLAY
DESCRIPTION:Reminder
END:VALARM
END:VEVENT
END:VCALENDAR