BEGIN:VCALENDAR
PRODID:-//hacksw/handcal//NONSGML v1.0//EN
VERSION:2.0
METHOD:PUBLISH
BEGIN:VEVENT
DTSTART:20220920T210000Z
DTEND:20220921T000000Z
LOCATION:Savannah’s, 40 University Drive, Amherst 
UID:2330120220920T210000ZPVEPC September Meeting
DTSTAMP:20260425T174908Z
DESCRIPTION:\nPlease Save the Date!!\n \nOur next event will be held on Tuesday, September 20th at [Savannah’s](https://savannasbarandbistro.com/dining/) in Amherst. The venue has an indoor backroom with French doors that open to an outside patio for everyone’s comfort.\n \nLocation: Savannah’s, 40 University Drive, Amherst\n \nAppetizers only will be served.\n \nSocial hour begins at 5:00 pm, cash bar.\n \nEvent cost is $40.00 for members and non-members. Pay online at [Pay via PayPal ](https://paypal.me/PVEPC?country.x=US&locale.x=en_US) or check accepted at the door.\n \nPlease watch for an upcoming email regarding payment of your membership annual dues.\n \nLooking forward to seeing everyone again!\n \n \n \nMolly Keegan\n \nPresident, PVEPC Board\n \n \n \nPVEPC Fall Meeting\n \n[RSVP Now for this Event](mailto:rfrancis@currankeegan.com?subject=PVEPC%20-%20RSVP%20for%20September%2020th%20event)\nDate: Tuesday, September 20th  \nTime: 5:00pm - 8:00pm\nLocation: Savannah’s in Amherst  \n[RSVP Now for this Event](mailto:rfrancis@currankeegan.com?subject=PVEPC%20-%20RSVP%20for%20September%2020th%20event)\n  \n
SUMMARY:PVEPC September Meeting - Pioneer Valley Estate Planning Council, Inc. 
PRIORITY:3
BEGIN:VALARM
TRIGGER:PT18H
ACTION:DISPLAY
DESCRIPTION:Reminder
END:VALARM
END:VEVENT
END:VCALENDAR