BEGIN:VCALENDAR
PRODID:-//hacksw/handcal//NONSGML v1.0//EN
VERSION:2.0
METHOD:PUBLISH
BEGIN:VEVENT
DTSTART:20220614T210000Z
DTEND:20220615T000000Z
LOCATION:Garden House, Look Park, Northampton
UID:2249420220614T210000ZPVEPC Annual Meeting
DTSTAMP:20260425T174400Z
DESCRIPTION:
SUMMARY:PVEPC Annual Meeting - Pioneer Valley Estate Planning Council, Inc. 
PRIORITY:3
BEGIN:VALARM
TRIGGER:PT18H
ACTION:DISPLAY
DESCRIPTION:Reminder
END:VALARM
END:VEVENT
END:VCALENDAR