BEGIN:VCALENDAR
PRODID:-//hacksw/handcal//NONSGML v1.0//EN
VERSION:2.0
METHOD:PUBLISH
BEGIN:VEVENT
DTSTART:20220426T210000Z
DTEND:20220426T230000Z
LOCATION:Garden House, Look Park, Northampton
UID:2249320220426T210000ZPlanning for foreign nationals 
DTSTAMP:20260425T175352Z
DESCRIPTION:\nPlease join us on Tuesday, April 26th, as Kathryn Wakefield, JD, CLU of MassMutual presents on planning for foreign nationals, including impacts of political and world health events.\n \nSocial hour beginning at 5:00 pm. \n \nAppetizers only will be served.\n \nEvent Fee $35.00. Pay online at [PVEPC.org](http://pvepc.org) or check accepted at the door.\n \n \n \n \n \n \n \n\n\n\n
SUMMARY:Planning for foreign nationals  - Pioneer Valley Estate Planning Council, Inc. 
PRIORITY:3
BEGIN:VALARM
TRIGGER:PT18H
ACTION:DISPLAY
DESCRIPTION:Reminder
END:VALARM
END:VEVENT
END:VCALENDAR