BEGIN:VCALENDAR
PRODID:-//hacksw/handcal//NONSGML v1.0//EN
VERSION:2.0
METHOD:PUBLISH
BEGIN:VEVENT
DTSTART:20220308T220000Z
DTEND:20220309T000000Z
LOCATION:Garden House, Look Park
UID:2238420220308T220000ZPVEPC Spring Meeting
DTSTAMP:20260425T174231Z
DESCRIPTION:\nSpencer Ghazy-Bates will lead an open discussion on “Planning issues around the 10-year inherited IRA rule”.  We will also have a speaker, TBD, to share with us on “Legislative updates”.\n
SUMMARY:PVEPC Spring Meeting - Pioneer Valley Estate Planning Council, Inc. 
PRIORITY:3
BEGIN:VALARM
TRIGGER:PT18H
ACTION:DISPLAY
DESCRIPTION:Reminder
END:VALARM
END:VEVENT
END:VCALENDAR