BEGIN:VCALENDAR
PRODID:-//hacksw/handcal//NONSGML v1.0//EN
VERSION:2.0
METHOD:PUBLISH
BEGIN:VEVENT
DTSTART:20210921T210000Z
DTEND:20210922T000000Z
LOCATION:Garden House, Look Park, Northampton
UID:2146920210921T210000ZPVEPC 2021 Kickoff
DTSTAMP:20260425T174508Z
DESCRIPTION:\nOur planned topic is an update on legislative efforts that may result in changes to the tax code and estate planning techniques.  Speakers to be announced shortly.\n
SUMMARY:PVEPC 2021 Kickoff - Pioneer Valley Estate Planning Council, Inc. 
PRIORITY:3
BEGIN:VALARM
TRIGGER:PT18H
ACTION:DISPLAY
DESCRIPTION:Reminder
END:VALARM
END:VEVENT
END:VCALENDAR