BEGIN:VCALENDAR
PRODID:-//hacksw/handcal//NONSGML v1.0//EN
VERSION:2.0
METHOD:PUBLISH
BEGIN:VEVENT
DTSTART:20210603T210000Z
DTEND:20210603T220000Z
LOCATION:Zoom 
UID:2101520210603T210000ZPVEPC Annual Meeting 
DTSTAMP:20260425T175353Z
DESCRIPTION:\nThe Annual PVEPC meeting will be held virtually at 5:00 pm on Thursday, June 3rd. \n \nPlease Save the Date!\n \nThis business meeting is required under our by-laws to elect a new slate of officers.  We will also be discussing plans for our first Fall event in September to be held in person (and likely outdoors).\n \nIf anyone is interested in joining the Board please [email me](mailto:mkeegan@currankeegan.com?subject=PVEPC%20Annual%20Meeting) directly in advance of the meeting.  Looking forward to seeing everyone again, even if this time via Zoom.  Zoom instructions will be sent prior to the meeting.\n \n \n
SUMMARY:PVEPC Annual Meeting  - Pioneer Valley Estate Planning Council, Inc. 
PRIORITY:3
BEGIN:VALARM
TRIGGER:PT18H
ACTION:DISPLAY
DESCRIPTION:Reminder
END:VALARM
END:VEVENT
END:VCALENDAR