BEGIN:VCALENDAR
PRODID:-//hacksw/handcal//NONSGML v1.0//EN
VERSION:2.0
METHOD:PUBLISH
BEGIN:VEVENT
DTSTART:20200130T220000Z
DTEND:20200131T010000Z
LOCATION:Garden House, Look Park 
UID:1912320200130T220000ZSECURE Act 
DTSTAMP:20260425T175250Z
DESCRIPTION:\n \n \nPresentation and discussion on the SECURE Act and ramifications for estate planning past and present.\n \nEvent starts at 5pm for a social hour, Seth Mias will be catering.\n \nJustin Brown, Lead Advisor for Mass Mutual's Government Relations Division will be our keynote speaker.  He will be joined by Al Kingen from MassMutual's Advanced Planning Division.\n \n \n \n \n
SUMMARY:SECURE Act  - Pioneer Valley Estate Planning Council, Inc. 
PRIORITY:3
BEGIN:VALARM
TRIGGER:PT18H
ACTION:DISPLAY
DESCRIPTION:Reminder
END:VALARM
END:VEVENT
END:VCALENDAR