BEGIN:VCALENDAR
PRODID:-//hacksw/handcal//NONSGML v1.0//EN
VERSION:2.0
METHOD:PUBLISH
BEGIN:VEVENT
DTSTART:20191203T223000Z
DTEND:20191204T010000Z
LOCATION:Alina's Restaurant  Russell Street Hadley, MA
UID:1885520191203T223000ZPVEPC Annual Kick-off
DTSTAMP:20260425T174508Z
DESCRIPTION:\nAnnual organizational meeting (Board and Slate of Officers)\n \nGuest Speaker:  Hyman Darling, Esq.\n
SUMMARY:PVEPC Annual Kick-off - Pioneer Valley Estate Planning Council, Inc. 
PRIORITY:3
BEGIN:VALARM
TRIGGER:PT18H
ACTION:DISPLAY
DESCRIPTION:Reminder
END:VALARM
END:VEVENT
END:VCALENDAR