BEGIN:VCALENDAR
PRODID:-//hacksw/handcal//NONSGML v1.0//EN
VERSION:2.0
METHOD:PUBLISH
BEGIN:VEVENT
DTSTART:20190502T113000Z
DTEND:20190502T133000Z
LOCATION:Courtyard by Marriott, 423 Russell Street, Hadley, MA
UID:1774720190502T113000ZMay 2019 Potpourri Breakfast
DTSTAMP:20260425T175352Z
DESCRIPTION:\nWe’re having a slight change for this upcoming meeting.  Robert Zucker, a licensed, certified social worker and Fellow in Thanatology, from Counseling for the Journey and author of “The Journey Through Grief and Loss: Helping Yourself and Your Child When Grief is Shared” will be our featured speaker.  For more than 25 years Robert has provided comfort and counseling to grieving adults, teens and children, both in his private practice and in hospitals, hospices, clinics and schools.  He has led bereavement workshops and retreats throughout the US and Canada.\n
SUMMARY:May 2019 Potpourri Breakfast - Pioneer Valley Estate Planning Council, Inc. 
PRIORITY:3
BEGIN:VALARM
TRIGGER:PT18H
ACTION:DISPLAY
DESCRIPTION:Reminder
END:VALARM
END:VEVENT
END:VCALENDAR