BEGIN:VCALENDAR
PRODID:-//hacksw/handcal//NONSGML v1.0//EN
VERSION:2.0
METHOD:PUBLISH
BEGIN:VEVENT
DTSTART:20190314T213000Z
DTEND:20190315T000000Z
LOCATION:The Garden House - Florence, MA 
UID:1761420190314T213000ZRESCHEDULED February 2019 Case Study Dinner (03/14/2019)
DTSTAMP:20260425T174509Z
DESCRIPTION:\nCase facts coming soon! \n
SUMMARY:RESCHEDULED February 2019 Case Study Dinner (03/14/2019) - Pioneer Valley Estate Planning Council, Inc. 
PRIORITY:3
BEGIN:VALARM
TRIGGER:PT18H
ACTION:DISPLAY
DESCRIPTION:Reminder
END:VALARM
END:VEVENT
END:VCALENDAR