BEGIN:VCALENDAR
PRODID:-//hacksw/handcal//NONSGML v1.0//EN
VERSION:2.0
METHOD:PUBLISH
BEGIN:VEVENT
DTSTART:20181204T223000Z
DTEND:20181205T003000Z
LOCATION:Alina's, 96 Russell Street, Hadley, MA 01035
UID:1720220181204T223000ZGift and estate planning and the potential impact on the cost of college.
DTSTAMP:20260425T175518Z
DESCRIPTION:\nWe are pleased to offer this extremely insightful session, led by Adam Metsch. He is the founder and President of The College Advisor of New England, Inc. with offices in Massachusetts and NY. Since 1994 they have helped thousands of families through the college selection, admissions, financial, and decision-making process.\n \nMembers are allowed to bring a 1st time guest and dinner will be on us!\n \nAnnual dues are $55/person and dinner is $35/plate. Cash or check accepted at the door.â\n \nHope to see you there!\n
SUMMARY:Gift and estate planning and the potential impact on the cost of college. - Pioneer Valley Estate Planning Council, Inc. 
PRIORITY:3
BEGIN:VALARM
TRIGGER:PT18H
ACTION:DISPLAY
DESCRIPTION:Reminder
END:VALARM
END:VEVENT
END:VCALENDAR