BEGIN:VCALENDAR
PRODID:-//hacksw/handcal//NONSGML v1.0//EN
VERSION:2.0
METHOD:PUBLISH
BEGIN:VEVENT
DTSTART:20180503T113000Z
DTEND:20180503T133000Z
LOCATION:Courtyard Marriott, 423 Russell Street, Hadley, MA 
UID:1609720180503T113000ZMay 2018 Potpourri Breakfast
DTSTAMP:20260425T174310Z
DESCRIPTION:
SUMMARY:May 2018 Potpourri Breakfast - Pioneer Valley Estate Planning Council, Inc. 
PRIORITY:3
BEGIN:VALARM
TRIGGER:PT18H
ACTION:DISPLAY
DESCRIPTION:Reminder
END:VALARM
END:VEVENT
END:VCALENDAR